BEGIN:VCALENDAR
VERSION:2.0
PRODID:-//Empowerment Resource Center - ECPv6.15.20//NONSGML v1.0//EN
CALSCALE:GREGORIAN
METHOD:PUBLISH
X-ORIGINAL-URL:https://www.erc-inc.org
X-WR-CALDESC:Events for Empowerment Resource Center
REFRESH-INTERVAL;VALUE=DURATION:PT1H
X-Robots-Tag:noindex
X-PUBLISHED-TTL:PT1H
BEGIN:VTIMEZONE
TZID:America/New_York
BEGIN:DAYLIGHT
TZOFFSETFROM:-0500
TZOFFSETTO:-0400
TZNAME:EDT
DTSTART:20250309T070000
END:DAYLIGHT
BEGIN:STANDARD
TZOFFSETFROM:-0400
TZOFFSETTO:-0500
TZNAME:EST
DTSTART:20251102T060000
END:STANDARD
BEGIN:DAYLIGHT
TZOFFSETFROM:-0500
TZOFFSETTO:-0400
TZNAME:EDT
DTSTART:20260308T070000
END:DAYLIGHT
BEGIN:STANDARD
TZOFFSETFROM:-0400
TZOFFSETTO:-0500
TZNAME:EST
DTSTART:20261101T060000
END:STANDARD
BEGIN:DAYLIGHT
TZOFFSETFROM:-0500
TZOFFSETTO:-0400
TZNAME:EDT
DTSTART:20270314T070000
END:DAYLIGHT
BEGIN:STANDARD
TZOFFSETFROM:-0400
TZOFFSETTO:-0500
TZNAME:EST
DTSTART:20271107T060000
END:STANDARD
END:VTIMEZONE
BEGIN:VEVENT
DTSTART;TZID=America/New_York:20260827T090000
DTEND;TZID=America/New_York:20260827T160000
DTSTAMP:20260423T044045
CREATED:20260421T200159Z
LAST-MODIFIED:20260421T201755Z
UID:14120-1787821200-1787846400@www.erc-inc.org
SUMMARY:From Risk to Resilience
DESCRIPTION:
URL:https://www.erc-inc.org/event/from-risk-to-resilience/
LOCATION:The Gathering Spot\, 384 Northyards Blvd NW\, Atlanta\, GA\, 30313\, United States
CATEGORIES:Signature Events
ATTACH;FMTTYPE=image/png:https://www.erc-inc.org/wp-content/uploads/2026/04/ERC-Symposium-Banner.png
ORGANIZER;CN="Empowerment Resource Center":MAILTO:info@erc-inc.org
END:VEVENT
END:VCALENDAR